BEGIN:VCALENDAR
VERSION:2.0
PRODID:-//Breast Cancer Research - ECPv4.6//NONSGML v1.0//EN
CALSCALE:GREGORIAN
METHOD:PUBLISH
X-WR-CALNAME:Breast Cancer Research
X-ORIGINAL-URL:http://www.breastcancerresearch.ie
X-WR-CALDESC:Events for Breast Cancer Research
BEGIN:VEVENT
DTSTART;VALUE=DATE:20160606
DTEND;VALUE=DATE:20160606
DTSTAMP:20171106T164803
CREATED:20160219T125945Z
LAST-MODIFIED:20160219T125945Z
UID:2109-1465171200-1465257599@www.breastcancerresearch.ie
SUMMARY:VHI Women's Mini Marathon
DESCRIPTION: \nWill you take part in this year’s VHI Women’s Mini Marathon to support Breast Cancer Research? \nWith your help we can positively impact the future for women in Ireland. \nCall Laura on 091 863 917 or email Hello@BreastCancerResearch.ie for your sponsorship pack. \nClick here to enter for the VHI Women’s Mini Marathon. \n  \n  \n  \n  \n
URL:http://www.breastcancerresearch.ie/event/vhi-womens-mini-marathon/
END:VEVENT
END:VCALENDAR