BEGIN:VCALENDAR
VERSION:2.0
PRODID:-//Breast Cancer Research - ECPv4.6//NONSGML v1.0//EN
CALSCALE:GREGORIAN
METHOD:PUBLISH
X-WR-CALNAME:Breast Cancer Research
X-ORIGINAL-URL:http://www.breastcancerresearch.ie
X-WR-CALDESC:Events for Breast Cancer Research
BEGIN:VEVENT
DTSTART;TZID=UTC+0:20160505T110000
DTEND;TZID=UTC+0:20160505T130000
DTSTAMP:20171106T164828
CREATED:20160429T195520Z
LAST-MODIFIED:20160429T195817Z
UID:2348-1462446000-1462453200@www.breastcancerresearch.ie
SUMMARY:Tribeton Coffee Morning for Breast Cancer Research
DESCRIPTION:Stop by Tribeton for a coffee morning for Breast Cancer Research on Thursday 5th May from 11am-1pm. Indulge in tasty treats and have a chance to win fabulous raffle prizes while contributing to world-class breast cancer research at NUI Galway.\n \n
URL:http://www.breastcancerresearch.ie/event/tribeton-coffee-morning-for-breast-cancer-research/
LOCATION:1-3 Merchants Rd Lower\, Galway\, Ireland
END:VEVENT
END:VCALENDAR