BEGIN:VCALENDAR
VERSION:2.0
PRODID:-//Breast Cancer Research - ECPv4.6//NONSGML v1.0//EN
CALSCALE:GREGORIAN
METHOD:PUBLISH
X-WR-CALNAME:Breast Cancer Research
X-ORIGINAL-URL:http://www.breastcancerresearch.ie
X-WR-CALDESC:Events for Breast Cancer Research
BEGIN:VEVENT
DTSTART;TZID=UTC+0:20171025T190000
DTEND;TZID=UTC+0:20171025T190000
DTSTAMP:20171106T155837
CREATED:20170926T173100Z
LAST-MODIFIED:20170926T173100Z
UID:3356-1508958000-1508958000@www.breastcancerresearch.ie
SUMMARY:Table Quiz at Blake's Corner Bar\, Galway
DESCRIPTION:
URL:http://www.breastcancerresearch.ie/event/table-quiz-at-blakes-corner-bar-galway/
END:VEVENT
END:VCALENDAR