BEGIN:VCALENDAR
VERSION:2.0
PRODID:-//Breast Cancer Research - ECPv4.6//NONSGML v1.0//EN
CALSCALE:GREGORIAN
METHOD:PUBLISH
X-WR-CALNAME:Breast Cancer Research
X-ORIGINAL-URL:http://www.breastcancerresearch.ie
X-WR-CALDESC:Events for Breast Cancer Research
BEGIN:VEVENT
DTSTART;TZID=UTC+0:20160809T080000
DTEND;TZID=UTC+0:20160809T170000
DTSTAMP:20171106T165531
CREATED:20160803T152402Z
LAST-MODIFIED:20160803T154456Z
UID:2637-1470729600-1470762000@www.breastcancerresearch.ie
SUMMARY:Swords Golf Club\, Play in Pink
DESCRIPTION:Play in Pink\, for Breast Cancer Research \nTeam of Four \n
URL:http://www.breastcancerresearch.ie/event/swords-golf-club-play-in-pink/
LOCATION:Naul Road\, Swords \, Dublin\, Ireland
CATEGORIES:Golf
END:VEVENT
END:VCALENDAR