BEGIN:VCALENDAR
VERSION:2.0
PRODID:-//Breast Cancer Research - ECPv4.6//NONSGML v1.0//EN
CALSCALE:GREGORIAN
METHOD:PUBLISH
X-WR-CALNAME:Breast Cancer Research
X-ORIGINAL-URL:http://www.breastcancerresearch.ie
X-WR-CALDESC:Events for Breast Cancer Research
BEGIN:VEVENT
DTSTART;TZID=UTC+0:20160526T103000
DTEND;TZID=UTC+0:20160526T122000
DTSTAMP:20171106T163733
CREATED:20160502T112511Z
LAST-MODIFIED:20160523T132929Z
UID:2399-1464258600-1464265200@www.breastcancerresearch.ie
SUMMARY:SuperPixel Labs Coffee Morning for Breast Cancer Research
DESCRIPTION:Join us for a coffee morning in aid of Breast Cancer Research from 10:30am-12:20pm on Thursday 26 May at SuperPixel Labs in Galway — a very cool coworking environment that provides an ecosystem designed to help entrepreneurs and startups succeed. This event provides a wonderful opportunity to support Breast Cancer Research and visit the home of SuperPixel\, a technology startup that has been shortlisted for two forthcoming BOI Ireland Startup Awards (the Best Digital/Online Startup Award and the Best Tech Startup Award). We are grateful to SuperPixel Labs for supporting Breast Cancer Research! \n
URL:http://www.breastcancerresearch.ie/event/superpixel-labs-coffee-morning-for-breast-cancer-research/
LOCATION:1st Floor\, Fairgreen House\, Fairgreen Rd.\, Galway City\, Ireland
END:VEVENT
END:VCALENDAR