BEGIN:VCALENDAR
VERSION:2.0
PRODID:-//Breast Cancer Research - ECPv4.6//NONSGML v1.0//EN
CALSCALE:GREGORIAN
METHOD:PUBLISH
X-WR-CALNAME:Breast Cancer Research
X-ORIGINAL-URL:http://www.breastcancerresearch.ie
X-WR-CALDESC:Events for Breast Cancer Research
BEGIN:VEVENT
DTSTART;VALUE=DATE:20161007
DTEND;VALUE=DATE:20161007
DTSTAMP:20171106T163245
CREATED:20160810T093633Z
LAST-MODIFIED:20160810T093906Z
UID:2687-1475798400-1475884799@www.breastcancerresearch.ie
SUMMARY:Save the Date: Shelbourne Lunch 2016
DESCRIPTION:We are really looking forward to our annual Lunch at the Shelbourne\, taking place this year on Friday\, 7 October. \nWe would like to say a huge thank you to our Dublin Fundraising Team for organising what’s promised to be a wonderful day. \nWear a touch of pink for a chance to win a €200 voucher from Fran & Jane Black Rock. \nThe afternoon will begin at 12 noon with a sparkling drinks reception\, followed by a three-course lunch\, a raffle\, and silent auction. \nThank you to everyone who has supported this event to date. \nThis hugely popular event usually sells out so be sure to pre-book your tickets now. Tickets for the Lunch at the Shelbourne are €110 per person or €1\,100 for a table of 10 guests. Business sponsorship opportunities are available. \nEmail Hello@BreastCancerResearch.ie or call 091 863 917 to secure your tickets or for more information. \n
URL:http://www.breastcancerresearch.ie/event/save-the-date-shelbourne-lunch-2016/
END:VEVENT
END:VCALENDAR