BEGIN:VCALENDAR
VERSION:2.0
PRODID:-//Breast Cancer Research - ECPv4.6//NONSGML v1.0//EN
CALSCALE:GREGORIAN
METHOD:PUBLISH
X-WR-CALNAME:Breast Cancer Research
X-ORIGINAL-URL:http://www.breastcancerresearch.ie
X-WR-CALDESC:Events for Breast Cancer Research
BEGIN:VEVENT
DTSTART;TZID=UTC+0:20160828T080000
DTEND;TZID=UTC+0:20160828T170000
DTSTAMP:20171106T164619
CREATED:20160803T154123Z
LAST-MODIFIED:20160803T154123Z
UID:2652-1472371200-1472403600@www.breastcancerresearch.ie
SUMMARY:Rosslare Golf Club\, Play in Pink
DESCRIPTION:Play in Pink\, for Breast Cancer Research \nSingles Competition \n
URL:http://www.breastcancerresearch.ie/event/rosslare-golf-club-play-in-pink/
LOCATION:Rosslare\, Co. Wexford\, Ireland
CATEGORIES:Golf
END:VEVENT
END:VCALENDAR