BEGIN:VCALENDAR
VERSION:2.0
PRODID:-//Breast Cancer Research - ECPv4.6//NONSGML v1.0//EN
CALSCALE:GREGORIAN
METHOD:PUBLISH
X-WR-CALNAME:Breast Cancer Research
X-ORIGINAL-URL:http://www.breastcancerresearch.ie
X-WR-CALDESC:Events for Breast Cancer Research
BEGIN:VEVENT
DTSTART;TZID=UTC+0:20160830T080000
DTEND;TZID=UTC+0:20160830T170000
DTSTAMP:20171106T164625
CREATED:20160803T154257Z
LAST-MODIFIED:20160804T160713Z
UID:2654-1472544000-1472576400@www.breastcancerresearch.ie
SUMMARY:Portarlington Golf Club\, Play in Pink
DESCRIPTION:Play in Pink\, for Breast Cancer Research \nStableford Greensomes \n
URL:http://www.breastcancerresearch.ie/event/portarlington-golf-club-play-in-pink/
LOCATION:Portarlington \, Co. Laois\, Ireland
CATEGORIES:Golf
END:VEVENT
END:VCALENDAR