BEGIN:VCALENDAR
VERSION:2.0
PRODID:-//Breast Cancer Research - ECPv4.6//NONSGML v1.0//EN
CALSCALE:GREGORIAN
METHOD:PUBLISH
X-WR-CALNAME:Breast Cancer Research
X-ORIGINAL-URL:http://www.breastcancerresearch.ie
X-WR-CALDESC:Events for Breast Cancer Research
BEGIN:VEVENT
DTSTART;VALUE=DATE:20160916
DTEND;VALUE=DATE:20160916
DTSTAMP:20171106T164630
CREATED:20160218T100008Z
LAST-MODIFIED:20160622T134630Z
UID:2107-1473984000-1474070399@www.breastcancerresearch.ie
SUMMARY:Play in Pink National Golf Finals
DESCRIPTION:More details coming soon… \n
URL:http://www.breastcancerresearch.ie/event/play-in-pink-national-golf-finals/
CATEGORIES:Golf
END:VEVENT
END:VCALENDAR