BEGIN:VCALENDAR
VERSION:2.0
PRODID:-//Breast Cancer Research - ECPv4.6//NONSGML v1.0//EN
CALSCALE:GREGORIAN
METHOD:PUBLISH
X-WR-CALNAME:Breast Cancer Research
X-ORIGINAL-URL:http://www.breastcancerresearch.ie
X-WR-CALDESC:Events for Breast Cancer Research
BEGIN:VEVENT
DTSTART;VALUE=DATE:20170616
DTEND;VALUE=DATE:20170616
DTSTAMP:20171106T161853
CREATED:20170328T134513Z
LAST-MODIFIED:20170530T144025Z
UID:3110-1497571200-1497657599@www.breastcancerresearch.ie
SUMMARY:Pink Afternoon in The Lodge at Ashford Castle
DESCRIPTION:Attending the Launch of The Pink Afternoon at The Lodge at Ashford Castle were: (L-R) Milliners Andrea Tighe\, Gillian Duggan\, Dr. Orla Smithwick Guest Speaker\, Milliners Mary White\, Majella Dalton and Brid O’ Driscoll. Photo Tom Taheny \nThe annual Breast Cancer Research Pink Afternoon at The Lodge at Ashford Castle takes place on Friday\, June 16th at 12pm. \nThe hugely popular event overlooking Lisloughrey Quay is the perfect way to connect with the important women in your life while supporting Breast Cancer Research (formerly NBCRI). \nThe afternoon will begin with a sparkling drinks reception followed by a three-course lunch with guest speaker Dr. Orla Smithwick. We will also have a fundraising auction hosted by Ollie Turner and live music afterwards. \nA milliner showcase will feature headpieces by Majella Dalton of Crevation Design\, Gillian Duggan Designs\, Brid O’Driscoll Millinery\, Mary White Millinery and Andrea Tighe of Tí Tighe. There will also be a “Milliner’s Choice” Competition on the day – each milliner will select a lady of their choice and the winner will receive a once off head piece\, just in time for the Galway Races. \nTickets for the Pink Afternoon are €70 per person. To purchase tickets email Hello@BreastCancerResearch.ie\, or call 091 863 917. \nThere will be a special bus service running from Galway City for this event. Tickets must be purchased in advance. Please contact Breast Cancer Research on 091 863 917 for more details. \n  \n  \n  \n  \n
URL:http://www.breastcancerresearch.ie/event/pink-afternoon-in-the-lodge-at-ashford-castle/
LOCATION:Cong\, Mayo\, Ireland
END:VEVENT
END:VCALENDAR