BEGIN:VCALENDAR
VERSION:2.0
PRODID:-//Breast Cancer Research - ECPv4.6//NONSGML v1.0//EN
CALSCALE:GREGORIAN
METHOD:PUBLISH
X-WR-CALNAME:Breast Cancer Research
X-ORIGINAL-URL:http://www.breastcancerresearch.ie
X-WR-CALDESC:Events for Breast Cancer Research
BEGIN:VEVENT
DTSTART;TZID=UTC+0:20160603T170000
DTEND;TZID=UTC+0:20160603T220000
DTSTAMP:20171106T163705
CREATED:20160530T090051Z
LAST-MODIFIED:20160530T090637Z
UID:2437-1464973200-1464991200@www.breastcancerresearch.ie
SUMMARY:Muse by Dee Silent Auction for Breast Cancer Research
DESCRIPTION: \nJoin us for this exciting event on 3 June in Galway. We are grateful to Muse by Dee for selecting Breast Cancer Research as the beneficiary of the silent auction\, which will be held at their shop on Middle Street starting at 6:30pm. The course of events for the night: Fashion Parade@5pm\, Prosecco & Canapes@6:30pm\, Fashion Show@7:30pm. Come along to this wonderful evening of fun and fashion! \n
URL:http://www.breastcancerresearch.ie/event/muse-by-dee-auction-for-breast-cancer-research/
LOCATION:Middle Street\, Galway\, Ireland
END:VEVENT
END:VCALENDAR