BEGIN:VCALENDAR
VERSION:2.0
PRODID:-//Breast Cancer Research - ECPv4.6//NONSGML v1.0//EN
CALSCALE:GREGORIAN
METHOD:PUBLISH
X-WR-CALNAME:Breast Cancer Research
X-ORIGINAL-URL:http://www.breastcancerresearch.ie
X-WR-CALDESC:Events for Breast Cancer Research
BEGIN:VEVENT
DTSTART;TZID=UTC+0:20170430T080000
DTEND;TZID=UTC+0:20170430T170000
DTSTAMP:20171106T161242
CREATED:20161201T175656Z
LAST-MODIFIED:20161201T180005Z
UID:2917-1493539200-1493571600@www.breastcancerresearch.ie
SUMMARY:Mayo Pink Ribbon - West of Ireland Women’s Mini Marathon 2017
DESCRIPTION:If you would like to participate in this 10km event there is an organisational €20 charge. This is not part of our fundraising. If you would like to raise money for Mayo Pink Ribbon by taking part in this event we’d love to hear from you.  Please contact us to request a sponsorship card. If you prefer you can also fundraise online for this event. \n
URL:http://www.breastcancerresearch.ie/event/mayo-pink-ribbon-west-of-ireland-womens-mini-marathon-2017/
LOCATION:Castlebar\, Ireland
ORGANIZER;CN="Mayo%20Pink%20Ribbon":MAILTO: info@mayopinkribbon.ie
END:VEVENT
END:VCALENDAR