BEGIN:VCALENDAR
VERSION:2.0
PRODID:-//Breast Cancer Research - ECPv4.6//NONSGML v1.0//EN
CALSCALE:GREGORIAN
METHOD:PUBLISH
X-WR-CALNAME:Breast Cancer Research
X-ORIGINAL-URL:http://www.breastcancerresearch.ie
X-WR-CALDESC:Events for Breast Cancer Research
BEGIN:VEVENT
DTSTART;TZID=UTC+0:20170415T080000
DTEND;TZID=UTC+0:20170415T170000
DTSTAMP:20171106T163517
CREATED:20161201T175144Z
LAST-MODIFIED:20170221T171953Z
UID:2914-1492243200-1492275600@www.breastcancerresearch.ie
SUMMARY:Mayo Pink Ribbon - Golf Classic 2017
DESCRIPTION:This event will take place on 15th and 16th April 2016 at Balina Golf Club. \nFor details or to register a team contact Paul Cawley on 086 8053755 \n€160 per team of 4/4 ball split \n€40 per individual. \n  \n
URL:http://www.breastcancerresearch.ie/event/mayo-pink-ribbon-golf-classic-2017/
LOCATION:Balina\, Ireland
END:VEVENT
END:VCALENDAR