BEGIN:VCALENDAR
VERSION:2.0
PRODID:-//Breast Cancer Research - ECPv4.6//NONSGML v1.0//EN
CALSCALE:GREGORIAN
METHOD:PUBLISH
X-WR-CALNAME:Breast Cancer Research
X-ORIGINAL-URL:http://www.breastcancerresearch.ie
X-WR-CALDESC:Events for Breast Cancer Research
BEGIN:VEVENT
DTSTART;TZID=UTC+0:20170812T160000
DTEND;TZID=UTC+0:20170813T170000
DTSTAMP:20171106T161038
CREATED:20170208T132058Z
LAST-MODIFIED:20170208T132058Z
UID:3026-1502553600-1502643600@www.breastcancerresearch.ie
SUMMARY:Leinster Loop 2017
DESCRIPTION: \nThe Leinster Loop with Stephen Roche in association with Version 1\, is Ireland’s premier charity cycle sportive\, starting from Old Grange\, Narraghmore\, Co. Kildare. The Leinster Loop has been nominated for Cycling Ireland’s Best Leisure Event in 2012\, 2013\, 2014\, 2015 & 2016. It is run on a voluntary basis\, and we have over 250 volunteers over the two days! \nClick Here for More… \n
URL:http://www.breastcancerresearch.ie/event/leinster-loop-2017/
END:VEVENT
END:VCALENDAR