BEGIN:VCALENDAR
VERSION:2.0
PRODID:-//Breast Cancer Research - ECPv4.6//NONSGML v1.0//EN
CALSCALE:GREGORIAN
METHOD:PUBLISH
X-WR-CALNAME:Breast Cancer Research
X-ORIGINAL-URL:http://www.breastcancerresearch.ie
X-WR-CALDESC:Events for Breast Cancer Research
BEGIN:VEVENT
DTSTART;TZID=UTC+0:20160807T080000
DTEND;TZID=UTC+0:20160807T170000
DTSTAMP:20171106T165521
CREATED:20160803T151856Z
LAST-MODIFIED:20160803T151856Z
UID:2633-1470556800-1470589200@www.breastcancerresearch.ie
SUMMARY:Killarney Golf Club\, Play in Pink
DESCRIPTION:Play in Pink\, for Breast Cancer Research \nSingles Competition \n
URL:http://www.breastcancerresearch.ie/event/killarney-golf-club-play-in-pink/
LOCATION:Killarney\, Co. Kerry\, Ireland
CATEGORIES:Golf
END:VEVENT
END:VCALENDAR