BEGIN:VCALENDAR
VERSION:2.0
PRODID:-//Breast Cancer Research - ECPv4.6//NONSGML v1.0//EN
CALSCALE:GREGORIAN
METHOD:PUBLISH
X-WR-CALNAME:Breast Cancer Research
X-ORIGINAL-URL:http://www.breastcancerresearch.ie
X-WR-CALDESC:Events for Breast Cancer Research
BEGIN:VEVENT
DTSTART;VALUE=DATE:20161117
DTEND;VALUE=DATE:20161121
DTSTAMP:20171106T163321
CREATED:20160617T101126Z
LAST-MODIFIED:20160617T115616Z
UID:2502-1479340800-1479772799@www.breastcancerresearch.ie
SUMMARY:International Walking Tour: New York
DESCRIPTION:Support Breast Cancer Research while having a trip of a lifetime! \nJoin us on our International Walking Tour to New York (17-21 November 2016). \nClick here to register your interest. \n
URL:http://www.breastcancerresearch.ie/event/international-walking-tour-new-york/
END:VEVENT
END:VCALENDAR