BEGIN:VCALENDAR
VERSION:2.0
PRODID:-//Breast Cancer Research - ECPv4.6//NONSGML v1.0//EN
CALSCALE:GREGORIAN
METHOD:PUBLISH
X-WR-CALNAME:Breast Cancer Research
X-ORIGINAL-URL:http://www.breastcancerresearch.ie
X-WR-CALDESC:Events for Breast Cancer Research
BEGIN:VEVENT
DTSTART;TZID=UTC+0:20171025T100000
DTEND;TZID=UTC+0:20171025T120000
DTSTAMP:20171106T155814
CREATED:20171024T154836Z
LAST-MODIFIED:20171024T155106Z
UID:3434-1508925600-1508932800@www.breastcancerresearch.ie
SUMMARY:Goyas Coffee Morning\, Galway
DESCRIPTION:Goyas Galway\, will host a coffee morning in aid of Breast Cancer Research from 10am -12pm Wednesday Oct 25th. \n
URL:http://www.breastcancerresearch.ie/event/goyas-coffee-morning-galway/
LOCATION:2-3 Kirwans Lane\,\, Galway\, Ireland
END:VEVENT
END:VCALENDAR