BEGIN:VCALENDAR
VERSION:2.0
PRODID:-//Breast Cancer Research - ECPv4.6//NONSGML v1.0//EN
CALSCALE:GREGORIAN
METHOD:PUBLISH
X-WR-CALNAME:Breast Cancer Research
X-ORIGINAL-URL:http://www.breastcancerresearch.ie
X-WR-CALDESC:Events for Breast Cancer Research
BEGIN:VEVENT
DTSTART;TZID=UTC+0:20160818T080000
DTEND;TZID=UTC+0:20160818T170000
DTSTAMP:20171106T164553
CREATED:20160803T153422Z
LAST-MODIFIED:20160803T153422Z
UID:2646-1471507200-1471539600@www.breastcancerresearch.ie
SUMMARY:Galgorm Castle Golf Club
DESCRIPTION:Play in Pink\, for Breast Cancer Research \nStableford Greensomes \n
URL:http://www.breastcancerresearch.ie/event/galgorm-castle-golf-club/
LOCATION:Ballymena\, Co. Antrim\, Ireland
CATEGORIES:Golf
END:VEVENT
END:VCALENDAR