BEGIN:VCALENDAR
VERSION:2.0
PRODID:-//Breast Cancer Research - ECPv4.6//NONSGML v1.0//EN
CALSCALE:GREGORIAN
METHOD:PUBLISH
X-WR-CALNAME:Breast Cancer Research
X-ORIGINAL-URL:http://www.breastcancerresearch.ie
X-WR-CALDESC:Events for Breast Cancer Research
BEGIN:VEVENT
DTSTART;TZID=UTC+0:20170801T120000
DTEND;TZID=UTC+0:20170801T200000
DTSTAMP:20171106T160853
CREATED:20160218T095735Z
LAST-MODIFIED:20170710T161128Z
UID:2106-1501588800-1501617600@www.breastcancerresearch.ie
SUMMARY:First Furlong at The Ardilaun Hotel
DESCRIPTION: \nOne of the major social events getting Galway Race week under way is First Furlong at the Ardilaun Hotel held annually in aid of Breast Cancer Research. Now in its sixth year it takes place on Tuesday 1stAugust and encapsulates all the fun of the Galway races with lunch\, music and fashion. Master of Ceremonies this year is well-known fashion and lifestyle blogger\, Lisa McGowan from Lisa’s Lust List. \nStarting at 12 noon with a sparkling drinks reception those attending will enjoy a beautiful four course lunch with wine\, followed by an afternoon of fabulous fashion with a Millinery Showcase hosted by Mandy Maher of Catwalk Modelling Agency featuring some of Ireland’s leading Milliners: Suzie Mahony\, Caithriona King\, Majella Dalton with Fashion by Anthony Ryans. \nLisa McGowan from Lisa’s Lust List will also judge the ‘Raciest Lady’ and ‘Bookies Favourite Gent’ sponsored by Anthony Ryans. Entertainment will be supplied by the Guinness Jazz Band\, and a very special performance by classical Tenors\, Duo Vocis featuring Frank Naughton and Sean Costello. \nTipsters will be on hand to give racing tips before everyone is shuttled to Ballybrit for an evening of racing. Tickets are on sale from the Ardilaun Hotel for the amazing price of just €75 all in\, that includes your shuttle and entre to the race course. Proceeds will go to Galway based charity Breast Cancer Research who fund a comprehensive research programme at the Lambe Institute for Translational Research\, NUI Galway lead by Professor Michael Kerin. \nSo why now line up for the First Furlong while supporting Breast Cancer Research. Tickets are available online at www.theardilaunhotel.ie or by phone on 091 521433. \n
URL:http://www.breastcancerresearch.ie/event/first-furlong-at-the-ardilaun-hotel/
LOCATION:Taylor's Hill\, Galway\, Ireland
END:VEVENT
END:VCALENDAR