BEGIN:VCALENDAR
VERSION:2.0
PRODID:-//Breast Cancer Research - ECPv4.6//NONSGML v1.0//EN
CALSCALE:GREGORIAN
METHOD:PUBLISH
X-WR-CALNAME:Breast Cancer Research
X-ORIGINAL-URL:http://www.breastcancerresearch.ie
X-WR-CALDESC:Events for Breast Cancer Research
BEGIN:VEVENT
DTSTART;VALUE=DATE:20160925
DTEND;VALUE=DATE:20160925
DTSTAMP:20171106T164638
CREATED:20160810T120119Z
LAST-MODIFIED:20160810T123728Z
UID:2691-1474761600-1474847999@www.breastcancerresearch.ie
SUMMARY:Evening Echo Women's Mini Marathon
DESCRIPTION:Take part in this year’s Evening Echo Women’s Mini Marathon in Cork on 25 September to support Breast Cancer Research! \nVisit our Evening Echo’s Mini Marathon webpage for more information on how to register and start fundraising. \nCall Aoife on 091 863 917 or email Aoife.Reilly@BreastCancerResearch.ie with any questions. \n
URL:http://www.breastcancerresearch.ie/event/evening-echo-womens-mini-marathon/
END:VEVENT
END:VCALENDAR