BEGIN:VCALENDAR
VERSION:2.0
PRODID:-//Breast Cancer Research - ECPv4.6//NONSGML v1.0//EN
CALSCALE:GREGORIAN
METHOD:PUBLISH
X-WR-CALNAME:Breast Cancer Research
X-ORIGINAL-URL:http://www.breastcancerresearch.ie
X-WR-CALDESC:Events for Breast Cancer Research
BEGIN:VEVENT
DTSTART;TZID=UTC+0:20171012T073000
DTEND;TZID=UTC+0:20171012T220000
DTSTAMP:20171106T155530
CREATED:20170926T172636Z
LAST-MODIFIED:20170929T122252Z
UID:3351-1507793400-1507845600@www.breastcancerresearch.ie
SUMMARY:'DINE in PINK'\, Caprice Cafe\, Galway
DESCRIPTION:As October is Breast Cancer Awareness Month\, Caprice Cafe is hosting a Dinner for Breast Cancer Research to help raise funds in support of the Galway based charity. Guests will be treated to a Sparkling Reception followed by delicious dinner with music fun and lots of spot prizes. All proceeds raised on the night will go to Breast Cancer Research. \nTo help Support Breast Cancer Research Book now by calling 091 564781 or emailing: info@caprice.ie \n  \n  \n  \n  \n  \n  \n  \n  \n
URL:http://www.breastcancerresearch.ie/event/dine-in-pink-caprice-cafe-galway/
LOCATION:1 Church Lane\,\, Galway\, Ireland
ATTACH;FMTTYPE=image/jpeg:http://www.breastcancerresearch.ie/wp-content/uploads/CapricePinkDinner-1.jpg
ORGANIZER;CN="Caprice%20Cafe":MAILTO:info@caprice.ie
END:VEVENT
END:VCALENDAR