BEGIN:VCALENDAR
VERSION:2.0
PRODID:-//Breast Cancer Research - ECPv4.6//NONSGML v1.0//EN
CALSCALE:GREGORIAN
METHOD:PUBLISH
X-WR-CALNAME:Breast Cancer Research
X-ORIGINAL-URL:http://www.breastcancerresearch.ie
X-WR-CALDESC:Events for Breast Cancer Research
BEGIN:VEVENT
DTSTART;TZID=UTC+0:20171012T100000
DTEND;TZID=UTC+0:20171012T120000
DTSTAMP:20171106T155621
CREATED:20171005T191019Z
LAST-MODIFIED:20171005T191019Z
UID:3407-1507802400-1507809600@www.breastcancerresearch.ie
SUMMARY:Coffee Morning at The Department of Marine\, Oranmore
DESCRIPTION:Details to Come \n
URL:http://www.breastcancerresearch.ie/event/coffee-morning-at-the-department-of-marine-oranmore/
END:VEVENT
END:VCALENDAR