BEGIN:VCALENDAR
VERSION:2.0
PRODID:-//Breast Cancer Research - ECPv4.6//NONSGML v1.0//EN
CALSCALE:GREGORIAN
METHOD:PUBLISH
X-WR-CALNAME:Breast Cancer Research
X-ORIGINAL-URL:http://www.breastcancerresearch.ie
X-WR-CALDESC:Events for Breast Cancer Research
BEGIN:VEVENT
DTSTART;TZID=UTC+0:20171024T080000
DTEND;TZID=UTC+0:20171024T100000
DTSTAMP:20171106T155809
CREATED:20171005T190636Z
LAST-MODIFIED:20171005T190636Z
UID:3401-1508832000-1508839200@www.breastcancerresearch.ie
SUMMARY:Castle Troy Hotel - Coffee Morning
DESCRIPTION:
URL:http://www.breastcancerresearch.ie/event/castle-troy-hotel-coffee-morning/
END:VEVENT
END:VCALENDAR