BEGIN:VCALENDAR
VERSION:2.0
PRODID:-//Breast Cancer Research - ECPv4.6//NONSGML v1.0//EN
CALSCALE:GREGORIAN
METHOD:PUBLISH
X-WR-CALNAME:Breast Cancer Research
X-ORIGINAL-URL:http://www.breastcancerresearch.ie
X-WR-CALDESC:Events for Breast Cancer Research
BEGIN:VEVENT
DTSTART;TZID=UTC+0:20161124T113000
DTEND;TZID=UTC+0:20161124T150000
DTSTAMP:20171106T163327
CREATED:20161122T113129Z
LAST-MODIFIED:20161122T113506Z
UID:2903-1479987000-1479999600@www.breastcancerresearch.ie
SUMMARY:Canopi Sleeves - Coffee Morning
DESCRIPTION:  \n  \nHere is an event for your diary this week. Canopi Sleeves will host a Coffee Morning for Breast Cancer Research this Thursday\, 24th November\, from 11:30am in the elegant Victorian surrounds of the Ariel House Hotel\, Landsdowne Road\, Dublin 4\, where guest will have the opportunity to attend the launch of Canopi’s latest range of sleeves\, ‘The Luxuria Range’. Embellished and glamorous it’s perfect for evening wear or to add a touch of glamour to any outfit. Plus\, 10% of November sales from Canopi Sleeves will be donated to Breast Cancer Research. \nThose attending will have a chance to win some fabulous prizes from; Concorde Travel\, Sunway Travel\, Diffusion.ie\, Joseph Kramer Hair studio and designer\, Patricia O Toole. \nTo learn more about Canopi Sleeves visit: www.canopisleeves.com/ So if you free why not come along. \n
URL:http://www.breastcancerresearch.ie/event/canopi-sleeves-coffee-morning/
ORGANIZER;CN="CANOPI%20CREATIVE%20LTD":MAILTO:sandra@canopi.ie
END:VEVENT
END:VCALENDAR