BEGIN:VCALENDAR
VERSION:2.0
PRODID:-//Breast Cancer Research - ECPv4.6//NONSGML v1.0//EN
CALSCALE:GREGORIAN
METHOD:PUBLISH
X-WR-CALNAME:Breast Cancer Research
X-ORIGINAL-URL:http://www.breastcancerresearch.ie
X-WR-CALDESC:Events for Breast Cancer Research
BEGIN:VEVENT
DTSTART;TZID=UTC+0:20160529T123000
DTEND;TZID=UTC+0:20160529T190000
DTSTAMP:20171106T164749
CREATED:20160315T210400Z
LAST-MODIFIED:20160315T210400Z
UID:2266-1464525000-1464548400@www.breastcancerresearch.ie
SUMMARY:Breast Cancer Research Lunch at The Clarion\, Sligo
DESCRIPTION:More details to come soon. \n
URL:http://www.breastcancerresearch.ie/event/breast-cancer-research-lunch-at-the-clarion-sligo/
END:VEVENT
END:VCALENDAR